BEGIN:VCALENDAR
VERSION:2.0
PRODID:-//Sabre//Sabre VObject 4.5.8//EN
CALSCALE:GREGORIAN
BEGIN:VEVENT
UID:sabre-vobject-36d02bf5-9447-4804-8b52-05556e3a9c91
DTSTAMP:20260425T161716Z
SUMMARY:Maiandacht
DESCRIPTION:https://www2.bistum-augsburg.de/gottesdienste/maiandacht_id1727
 726
DTSTART;TZID=Europe/Berlin:20260531T180000
DURATION:PT30M
LOCATION:St. Nikolaus\, Bürgermeister-Fendt-Straße 2\, 89350 Dürrlauinge
 n
END:VEVENT
END:VCALENDAR
