BEGIN:VCALENDAR
VERSION:2.0
PRODID:-//Sabre//Sabre VObject 4.5.8//EN
CALSCALE:GREGORIAN
BEGIN:VEVENT
UID:sabre-vobject-ddc5badd-357c-429d-8786-e04a41802e4e
DTSTAMP:20260424T014443Z
SUMMARY:Maiandacht der Senioren\, danach Kaffee und Kuchen
DESCRIPTION:https://www2.bistum-augsburg.de/gottesdienste/maiandacht-der-se
 nioren-danach-kaffee-und-kuchen_id1727735
DTSTART;TZID=Europe/Berlin:20260519T143000
DURATION:PT30M
LOCATION:St. Ambrosius
END:VEVENT
END:VCALENDAR
