BEGIN:VCALENDAR
VERSION:2.0
PRODID:-//Sabre//Sabre VObject 4.5.8//EN
CALSCALE:GREGORIAN
BEGIN:VEVENT
UID:sabre-vobject-456924d2-1481-4592-8586-9272ee32fa20
DTSTAMP:20260424T124500Z
SUMMARY:Stille Anbetung
DESCRIPTION:https://www2.bistum-augsburg.de/gottesdienste/stille-anbetung_i
 d1727747
DTSTART;TZID=Europe/Berlin:20260505T190000
DURATION:PT30M
LOCATION:St. Nikolaus\, Bodenseestraße 157\, 88138 Bösenreutin
END:VEVENT
END:VCALENDAR
