BEGIN:VCALENDAR
VERSION:2.0
PRODID:-//Sabre//Sabre VObject 4.5.8//EN
CALSCALE:GREGORIAN
BEGIN:VEVENT
UID:sabre-vobject-abdbcdeb-aed0-4e37-8da6-05d716d55cba
DTSTAMP:20260426T000258Z
SUMMARY:Hl. Messe
DESCRIPTION:https://www2.bistum-augsburg.de/gottesdienste/hl-messe_id172775
 4
DTSTART;TZID=Europe/Berlin:20260528T190000
DURATION:PT30M
LOCATION:St. Ambrosius
END:VEVENT
END:VCALENDAR
