BEGIN:VCALENDAR
VERSION:2.0
PRODID:-//Sabre//Sabre VObject 4.5.8//EN
CALSCALE:GREGORIAN
BEGIN:VEVENT
UID:sabre-vobject-080c4354-1060-4824-a5cf-175ee0b7730b
DTSTAMP:20260424T220917Z
SUMMARY:Beichtgelegenheit u. Rosenkranz
DESCRIPTION:https://www2.bistum-augsburg.de/gottesdienste/beichtgelegenheit
 -u-rosenkranz_id1727759
DTSTART;TZID=Europe/Berlin:20260425T180000
DURATION:PT30M
LOCATION:St. Georg\, Pfarrer-Jeck-Straße 12\, 86747 Utzwingen
END:VEVENT
END:VCALENDAR
