BEGIN:VCALENDAR
VERSION:2.0
PRODID:-//Sabre//Sabre VObject 4.5.8//EN
CALSCALE:GREGORIAN
BEGIN:VEVENT
UID:sabre-vobject-598ea189-41e4-480b-ba55-a18da79d7677
DTSTAMP:20260425T184055Z
SUMMARY:Patrozinium St. Georg Hegnenbach\, Sonntagsmesse
DESCRIPTION:https://www2.bistum-augsburg.de/gottesdienste/patrozinium-st-ge
 org-hegnenbach-sonntagsmesse_id1727766
DTSTART;TZID=Europe/Berlin:20260425T180000
DURATION:PT30M
LOCATION:St. Georg
END:VEVENT
END:VCALENDAR
