BEGIN:VCALENDAR
VERSION:2.0
PRODID:-//Sabre//Sabre VObject 4.5.8//EN
CALSCALE:GREGORIAN
BEGIN:VEVENT
UID:sabre-vobject-78c23dff-0eb4-4fe3-8a7e-58afb7e29ed3
DTSTAMP:20260424T112937Z
SUMMARY:Rosenkranz
DESCRIPTION:https://www2.bistum-augsburg.de/gottesdienste/rosenkranz_id1727
 771
DTSTART;TZID=Europe/Berlin:20260427T183000
DURATION:PT30M
LOCATION:St. Vitus
END:VEVENT
END:VCALENDAR
