BEGIN:VCALENDAR
VERSION:2.0
PRODID:-//Sabre//Sabre VObject 4.5.8//EN
CALSCALE:GREGORIAN
BEGIN:VEVENT
UID:sabre-vobject-0d68c1b6-cc8b-4aec-8436-e7598bab1ef8
DTSTAMP:20260424T043116Z
SUMMARY:Maiandacht vom Frauenbund
DESCRIPTION:https://www2.bistum-augsburg.de/gottesdienste/maiandacht-vom-fr
 auenbund_id1727779
DTSTART;TZID=Europe/Berlin:20260506T143000
DURATION:PT30M
LOCATION:St. Ambrosius
END:VEVENT
END:VCALENDAR
