BEGIN:VCALENDAR
VERSION:2.0
PRODID:-//Sabre//Sabre VObject 4.5.8//EN
CALSCALE:GREGORIAN
BEGIN:VEVENT
UID:sabre-vobject-54430d95-a1de-41ee-9b4c-bbea20c54f1f
DTSTAMP:20260425T121649Z
SUMMARY:Hl. Messe
DESCRIPTION:https://www2.bistum-augsburg.de/gottesdienste/hl-messe_id172778
 1
DTSTART;TZID=Europe/Berlin:20260505T083000
DURATION:PT30M
LOCATION:St. Ambrosius
END:VEVENT
END:VCALENDAR
