BEGIN:VCALENDAR
VERSION:2.0
PRODID:-//Sabre//Sabre VObject 4.5.8//EN
CALSCALE:GREGORIAN
BEGIN:VEVENT
UID:sabre-vobject-bc543e32-de23-4afd-8f95-491155513e3c
DTSTAMP:20260424T155506Z
SUMMARY:Taufe von Leo Michael Lehmann
DESCRIPTION:https://www2.bistum-augsburg.de/gottesdienste/taufe-von-leo-mic
 hael-lehmann_id1727788
DTSTART;TZID=Europe/Berlin:20260523T110000
DURATION:PT30M
LOCATION:St. Nikolaus\, Bodenseestraße 157\, 88138 Bösenreutin
END:VEVENT
END:VCALENDAR
