BEGIN:VCALENDAR
VERSION:2.0
PRODID:-//Sabre//Sabre VObject 4.5.8//EN
CALSCALE:GREGORIAN
BEGIN:VEVENT
UID:sabre-vobject-e9792a1a-5226-414e-8959-b0ebdf204dbe
DTSTAMP:20260424T220740Z
SUMMARY:Maigottesdienst
DESCRIPTION:https://www2.bistum-augsburg.de/gottesdienste/maigottesdienst_i
 d1727795
DTSTART;TZID=Europe/Berlin:20260501T100000
DURATION:PT30M
LOCATION:Hlgst. Herz Jesu
END:VEVENT
END:VCALENDAR
