BEGIN:VCALENDAR
VERSION:2.0
PRODID:-//Sabre//Sabre VObject 4.5.8//EN
CALSCALE:GREGORIAN
BEGIN:VEVENT
UID:sabre-vobject-f0655d94-0de8-4e64-9539-6a7dc36ddb84
DTSTAMP:20260425T125318Z
SUMMARY:Markusbittgang zur Nikolauskapelle\, dort hl. Messe
DESCRIPTION:https://www2.bistum-augsburg.de/gottesdienste/markusbittgang-zu
 r-nikolauskapelle-dort-hl-messe_id1727819
DTSTART;TZID=Europe/Berlin:20260428T184500
DURATION:PT30M
LOCATION:St. Clemens
END:VEVENT
END:VCALENDAR
