BEGIN:VCALENDAR
VERSION:2.0
PRODID:-//Sabre//Sabre VObject 4.5.8//EN
CALSCALE:GREGORIAN
BEGIN:VEVENT
UID:sabre-vobject-b4c5d680-682d-47a5-8177-0d8d78515160
DTSTAMP:20260426T042555Z
SUMMARY:Hl. Messe in den Anliegen der Rosenkranz-Bruderschaft
DESCRIPTION:https://www2.bistum-augsburg.de/gottesdienste/hl-messe-in-den-a
 nliegen-der-rosenkranz-bruderschaft_id1727821
DTSTART;TZID=Europe/Berlin:20260507T190000
DURATION:PT30M
LOCATION:St. Ambrosius
END:VEVENT
END:VCALENDAR
