BEGIN:VCALENDAR
VERSION:2.0
PRODID:-//Sabre//Sabre VObject 4.5.8//EN
CALSCALE:GREGORIAN
BEGIN:VEVENT
UID:sabre-vobject-9229c243-7104-4afa-b806-8624b9a3db78
DTSTAMP:20260424T085233Z
SUMMARY:Sonntagvorabendmesse
DESCRIPTION:https://www2.bistum-augsburg.de/gottesdienste/sonntagvorabendme
 sse_id1727841
DTSTART;TZID=Europe/Berlin:20260502T191500
DURATION:PT30M
LOCATION:St. Clemens
END:VEVENT
END:VCALENDAR
