BEGIN:VCALENDAR
VERSION:2.0
PRODID:-//Sabre//Sabre VObject 4.5.8//EN
CALSCALE:GREGORIAN
BEGIN:VEVENT
UID:sabre-vobject-a49caebf-3431-4576-b7e0-71b827f9123d
DTSTAMP:20260422T174334Z
SUMMARY:2. Probe für die Erstkommunionkinder
DESCRIPTION:https://www2.bistum-augsburg.de/gottesdienste/2-probe-fuer-die-
 erstkommunionkinder_id1727845
DTSTART;TZID=Europe/Berlin:20260425T090000
DURATION:PT30M
LOCATION:St. Michael\, Augsburger Str.\, 86568 Hollenbach
END:VEVENT
END:VCALENDAR
