BEGIN:VCALENDAR
VERSION:2.0
PRODID:-//Sabre//Sabre VObject 4.5.8//EN
CALSCALE:GREGORIAN
BEGIN:VEVENT
UID:sabre-vobject-5f418810-471f-4ec5-aa09-b1452765e136
DTSTAMP:20260424T103915Z
SUMMARY:Kommunionvorbereitung Gruppe 1
DESCRIPTION:https://www2.bistum-augsburg.de/gottesdienste/kommunionvorberei
 tung-gruppe-1_id1727860
DTSTART;TZID=Europe/Berlin:20260505T160000
DURATION:PT30M
LOCATION:St. Michael\, Pius-Mozet-Straße 4\, 86450 Violau
END:VEVENT
END:VCALENDAR
