BEGIN:VCALENDAR
VERSION:2.0
PRODID:-//Sabre//Sabre VObject 4.5.8//EN
CALSCALE:GREGORIAN
BEGIN:VEVENT
UID:sabre-vobject-6bc28b75-8ab7-4011-8052-80ed8f4771fa
DTSTAMP:20260426T015618Z
SUMMARY:Maiandacht - Opfer für den Maialtar
DESCRIPTION:https://www2.bistum-augsburg.de/gottesdienste/maiandacht-opfer-
 fuer-den-maialtar_id1727866
DTSTART;TZID=Europe/Berlin:20260531T180000
DURATION:PT30M
LOCATION:St. Vitus
END:VEVENT
END:VCALENDAR
