BEGIN:VCALENDAR
VERSION:2.0
PRODID:-//Sabre//Sabre VObject 4.5.8//EN
CALSCALE:GREGORIAN
BEGIN:VEVENT
UID:sabre-vobject-35fa85bb-871c-4c8a-be17-cdb8587d6a14
DTSTAMP:20260423T144318Z
SUMMARY:Pilgermesse am Gnadenaltar
DESCRIPTION:https://www2.bistum-augsburg.de/gottesdienste/pilgermesse-am-gn
 adenaltar_id1727871
DTSTART;TZID=Europe/Berlin:20260506T090000
DURATION:PT30M
LOCATION:St. Michael\, Pius-Mozet-Straße 4\, 86450 Violau
END:VEVENT
END:VCALENDAR
