BEGIN:VCALENDAR
VERSION:2.0
PRODID:-//Sabre//Sabre VObject 4.5.8//EN
CALSCALE:GREGORIAN
BEGIN:VEVENT
UID:sabre-vobject-ec9fe90a-d241-455c-b35d-6139e5b49f0e
DTSTAMP:20260424T203119Z
SUMMARY:Wallfahrtsgottesdienst der Pfarrei St. Vitus Streitheim
DESCRIPTION:https://www2.bistum-augsburg.de/gottesdienste/wallfahrtsgottesd
 ienst-der-pfarrei-st-vitus-streitheim_id1727876
DTSTART;TZID=Europe/Berlin:20260509T100000
DURATION:PT30M
LOCATION:St. Michael\, Pius-Mozet-Straße 4\, 86450 Violau
END:VEVENT
END:VCALENDAR
