BEGIN:VCALENDAR
VERSION:2.0
PRODID:-//Sabre//Sabre VObject 4.5.8//EN
CALSCALE:GREGORIAN
BEGIN:VEVENT
UID:sabre-vobject-102ecb52-9981-4f66-b4a1-81ccf6ecc1ea
DTSTAMP:20260424T114938Z
SUMMARY:Feierliche Maiandacht - Opfer für den Maialtar\n
DESCRIPTION:https://www2.bistum-augsburg.de/gottesdienste/feierliche-maiand
 acht-opfer-fuer-den-maialtar_id1727877
DTSTART;TZID=Europe/Berlin:20260524T140000
DURATION:PT30M
LOCATION:St. Michael\, Pius-Mozet-Straße 4\, 86450 Violau
END:VEVENT
END:VCALENDAR
