BEGIN:VCALENDAR
VERSION:2.0
PRODID:-//Sabre//Sabre VObject 4.5.8//EN
CALSCALE:GREGORIAN
BEGIN:VEVENT
UID:sabre-vobject-a2464f82-4a43-4519-902f-e0956f4299f6
DTSTAMP:20260424T115923Z
SUMMARY:Beichtgelegenheit und Rosenkranz
DESCRIPTION:https://www2.bistum-augsburg.de/gottesdienste/beichtgelegenheit
 -und-rosenkranz_id1727880
DTSTART;TZID=Europe/Berlin:20260531T093000
DURATION:PT30M
LOCATION:St. Michael\, Pius-Mozet-Straße 4\, 86450 Violau
END:VEVENT
END:VCALENDAR
