BEGIN:VCALENDAR
VERSION:2.0
PRODID:-//Sabre//Sabre VObject 4.5.8//EN
CALSCALE:GREGORIAN
BEGIN:VEVENT
UID:sabre-vobject-15848a00-88e3-4ad2-8979-4df2494bfe22
DTSTAMP:20260424T120123Z
SUMMARY:Beichtgelegenheit und Rosenkranz
DESCRIPTION:https://www2.bistum-augsburg.de/gottesdienste/beichtgelegenheit
 -und-rosenkranz_id1727888
DTSTART;TZID=Europe/Berlin:20260607T093000
DURATION:PT30M
LOCATION:St. Michael\, Pius-Mozet-Straße 4\, 86450 Violau
END:VEVENT
END:VCALENDAR
