BEGIN:VCALENDAR
VERSION:2.0
PRODID:-//Sabre//Sabre VObject 4.5.8//EN
CALSCALE:GREGORIAN
BEGIN:VEVENT
UID:sabre-vobject-8a9d0e53-ffa4-4a93-9f08-56c080220bfe
DTSTAMP:20260424T043254Z
SUMMARY:Taufe des Kindes Hannes Götzfried
DESCRIPTION:https://www2.bistum-augsburg.de/gottesdienste/taufe-des-kindes-
 hannes-goetzfried_id1727890
DTSTART;TZID=Europe/Berlin:20260426T110000
DURATION:PT30M
LOCATION:St. Blasius
END:VEVENT
END:VCALENDAR
