BEGIN:VCALENDAR
VERSION:2.0
PRODID:-//Sabre//Sabre VObject 4.5.8//EN
CALSCALE:GREGORIAN
BEGIN:VEVENT
UID:sabre-vobject-59965f80-bd97-4529-8c48-be4d2d4fa1ea
DTSTAMP:20260425T034152Z
SUMMARY:Erste feierliche Maiandacht
DESCRIPTION:https://www2.bistum-augsburg.de/gottesdienste/erste-feierliche-
 maiandacht_id1727893
DTSTART;TZID=Europe/Berlin:20260501T191500
DURATION:PT30M
LOCATION:St. Blasius
END:VEVENT
END:VCALENDAR
