BEGIN:VCALENDAR
VERSION:2.0
PRODID:-//Sabre//Sabre VObject 4.5.8//EN
CALSCALE:GREGORIAN
BEGIN:VEVENT
UID:sabre-vobject-7f639982-73fc-423d-aaef-50d0709c30d7
DTSTAMP:20260425T210133Z
SUMMARY:Eucharistische Anbetung
DESCRIPTION:https://www2.bistum-augsburg.de/gottesdienste/eucharistische-an
 betung_id1727921
DTSTART;TZID=Europe/Berlin:20260508T170000
DURATION:PT30M
LOCATION:Hlgst. Herz Jesu
END:VEVENT
END:VCALENDAR
