BEGIN:VCALENDAR
VERSION:2.0
PRODID:-//Sabre//Sabre VObject 4.5.8//EN
CALSCALE:GREGORIAN
BEGIN:VEVENT
UID:sabre-vobject-04c8dcc5-9cff-4c9c-a341-3e6fab4f729a
DTSTAMP:20260424T151148Z
SUMMARY:Patrozinium St. Georg Unterschöneberg\, Heilige Messe
DESCRIPTION:https://www2.bistum-augsburg.de/gottesdienste/patrozinium-st-ge
 org-unterschoeneberg-heilige-messe_id1727927
DTSTART;TZID=Europe/Berlin:20260426T180000
DURATION:PT30M
LOCATION:St. Michael\, Pius-Mozet-Straße 4\, 86450 Violau
END:VEVENT
END:VCALENDAR
