BEGIN:VCALENDAR
VERSION:2.0
PRODID:-//Sabre//Sabre VObject 4.5.8//EN
CALSCALE:GREGORIAN
BEGIN:VEVENT
UID:sabre-vobject-4547f66e-866e-49e3-bdd8-025ef66ccd20
DTSTAMP:20260422T190631Z
SUMMARY:Pfarrgottesdienst
DESCRIPTION:https://www2.bistum-augsburg.de/gottesdienste/pfarrgottesdienst
 _id1727931
DTSTART;TZID=Europe/Berlin:20260426T100000
DURATION:PT30M
LOCATION:Wallfahrtskirche Maria vom Berge Karmel
END:VEVENT
END:VCALENDAR
