BEGIN:VCALENDAR
VERSION:2.0
PRODID:-//Sabre//Sabre VObject 4.5.8//EN
CALSCALE:GREGORIAN
BEGIN:VEVENT
UID:sabre-vobject-da63bb36-3c25-4ba7-802b-97743298a64f
DTSTAMP:20260424T121816Z
SUMMARY:Pfarr- und Wallfahrtsgottesdienst\, Hl. Messe für die Lebenden u. 
 Verstorbenen der Pfarreiengemeinschaft
DESCRIPTION:https://www2.bistum-augsburg.de/gottesdienste/pfarr-und-wallfah
 rtsgottesdienst-hl-messe-fuer-die-lebenden-u-verstorbenen-der-pfarreiengem
 einschaft_id1727948
DTSTART;TZID=Europe/Berlin:20260531T100000
DURATION:PT30M
LOCATION:St. Michael\, Pius-Mozet-Straße 4\, 86450 Violau
END:VEVENT
END:VCALENDAR
