BEGIN:VCALENDAR
VERSION:2.0
PRODID:-//Sabre//Sabre VObject 4.5.8//EN
CALSCALE:GREGORIAN
BEGIN:VEVENT
UID:sabre-vobject-a3b36318-1a51-4145-9df9-51290668be36
DTSTAMP:20260424T120057Z
SUMMARY:Feierliche Maiandacht - Opfer für den Maialtar\n
DESCRIPTION:https://www2.bistum-augsburg.de/gottesdienste/feierliche-maiand
 acht-opfer-fuer-den-maialtar_id1727958
DTSTART;TZID=Europe/Berlin:20260531T140000
DURATION:PT30M
LOCATION:St. Michael\, Pius-Mozet-Straße 4\, 86450 Violau
END:VEVENT
END:VCALENDAR
