BEGIN:VCALENDAR
VERSION:2.0
PRODID:-//Sabre//Sabre VObject 4.5.8//EN
CALSCALE:GREGORIAN
BEGIN:VEVENT
UID:sabre-vobject-c5371c8c-2bca-4d1e-93dc-46fd04ecf499
DTSTAMP:20260422T193018Z
SUMMARY:Rosenkranz im Anliegen für Kinder und Jugendliche
DESCRIPTION:https://www2.bistum-augsburg.de/gottesdienste/rosenkranz-im-anl
 iegen-fuer-kinder-und-jugendliche_id1727964
DTSTART;TZID=Europe/Berlin:20260427T080000
DURATION:PT30M
LOCATION:St. Jakobus maj.\, Marktplatz 11\, 87733 Markt Rettenbach
END:VEVENT
END:VCALENDAR
