BEGIN:VCALENDAR
VERSION:2.0
PRODID:-//Sabre//Sabre VObject 4.5.8//EN
CALSCALE:GREGORIAN
BEGIN:VEVENT
UID:sabre-vobject-d408a8f3-9112-4799-bf8a-b0efeb094528
DTSTAMP:20260423T210350Z
SUMMARY:Pfarrgemeinderatsitzung im Pfarrheim
DESCRIPTION:https://www2.bistum-augsburg.de/gottesdienste/pfarrgemeinderats
 itzung-im-pfarrheim_id1727968
DTSTART;TZID=Europe/Berlin:20260429T200000
DURATION:PT30M
LOCATION:St. Jakobus maj.\, Marktplatz 11\, 87733 Markt Rettenbach
END:VEVENT
END:VCALENDAR
