BEGIN:VCALENDAR
VERSION:2.0
PRODID:-//Sabre//Sabre VObject 4.5.8//EN
CALSCALE:GREGORIAN
BEGIN:VEVENT
UID:sabre-vobject-d9e4ec6f-3c80-46e7-962d-f5b902b9a771
DTSTAMP:20260422T155715Z
SUMMARY:Wallfahrtsgottesdienst mit Wallfahrern aus Grünenbaindt u. Gabelba
 ch
DESCRIPTION:https://www2.bistum-augsburg.de/gottesdienste/wallfahrtsgottesd
 ienst-mit-wallfahrern-aus-gruenenbaindt-u-gabelbach_id1727973
DTSTART;TZID=Europe/Berlin:20260501T073000
DURATION:PT30M
LOCATION:St. Michael\, Pius-Mozet-Straße 4\, 86450 Violau
END:VEVENT
END:VCALENDAR
