BEGIN:VCALENDAR
VERSION:2.0
PRODID:-//Sabre//Sabre VObject 4.5.8//EN
CALSCALE:GREGORIAN
BEGIN:VEVENT
UID:sabre-vobject-86be5812-6f5f-4387-9cb2-5d18af751437
DTSTAMP:20260425T192322Z
SUMMARY:In Schwatzen: Bittgang u. Hl. Messe - Treffpunkt am Brunnen\, Hl. M
 esse auf der Halde beim Wasserbehälter
DESCRIPTION:https://www2.bistum-augsburg.de/gottesdienste/in-schwatzen-bitt
 gang-u-hl-messe-treffpunkt-am-brunnen-hl-messe-auf-der-halde-beim-wasserbe
 haelter_id1727975
DTSTART;TZID=Europe/Berlin:20260511T180000
DURATION:PT30M
LOCATION:St. Markus
END:VEVENT
END:VCALENDAR
