BEGIN:VCALENDAR
VERSION:2.0
PRODID:-//Sabre//Sabre VObject 4.5.8//EN
CALSCALE:GREGORIAN
BEGIN:VEVENT
UID:sabre-vobject-08bd2399-6733-45dd-80d5-b819bb87ba95
DTSTAMP:20260424T102728Z
SUMMARY:Gebet der MMC
DESCRIPTION:https://www2.bistum-augsburg.de/gottesdienste/gebet-der-mmc_id1
 728000
DTSTART;TZID=Europe/Berlin:20260607T110000
DURATION:PT30M
LOCATION:St. Michael\, Pius-Mozet-Straße 4\, 86450 Violau
END:VEVENT
END:VCALENDAR
