BEGIN:VCALENDAR
VERSION:2.0
PRODID:-//Sabre//Sabre VObject 4.5.8//EN
CALSCALE:GREGORIAN
BEGIN:VEVENT
UID:sabre-vobject-92d148e1-babe-4fbf-bf49-223ebfa8c14c
DTSTAMP:20260424T225052Z
SUMMARY:Beichtgelegenheit
DESCRIPTION:https://www2.bistum-augsburg.de/gottesdienste/beichtgelegenheit
 _id1728005
DTSTART;TZID=Europe/Berlin:20260516T163000
DURATION:PT30M
LOCATION:Hlgst. Herz Jesu
END:VEVENT
END:VCALENDAR
