BEGIN:VCALENDAR
VERSION:2.0
PRODID:-//Sabre//Sabre VObject 4.5.8//EN
CALSCALE:GREGORIAN
BEGIN:VEVENT
UID:sabre-vobject-61aa9af5-7b31-48f7-bf5d-159d3ed1e0be
DTSTAMP:20260424T202857Z
SUMMARY:Dekanatswallfahrt bis 22:00 Uhr
DESCRIPTION:https://www2.bistum-augsburg.de/gottesdienste/dekanatswallfahrt
 -bis-22-00-uhr_id1728012
DTSTART;TZID=Europe/Berlin:20260516T150000
DURATION:PT30M
LOCATION:St. Vitus
END:VEVENT
END:VCALENDAR
