BEGIN:VCALENDAR
VERSION:2.0
PRODID:-//Sabre//Sabre VObject 4.5.8//EN
CALSCALE:GREGORIAN
BEGIN:VEVENT
UID:sabre-vobject-acfec632-4e2d-4948-8441-fdd1b7df739a
DTSTAMP:20260423T110633Z
SUMMARY:Pfarrgottesdienst\; Franz Kößler (30.)
DESCRIPTION:https://www2.bistum-augsburg.de/gottesdienste/pfarrgottesdienst
 -franz-koessler-30_id1728028
DTSTART;TZID=Europe/Berlin:20260426T100000
DURATION:PT30M
LOCATION:St. Blasius
END:VEVENT
END:VCALENDAR
