BEGIN:VCALENDAR
VERSION:2.0
PRODID:-//Sabre//Sabre VObject 4.5.8//EN
CALSCALE:GREGORIAN
BEGIN:VEVENT
UID:sabre-vobject-0df9d337-4c74-4c71-a854-5303c57cd4ce
DTSTAMP:20260424T154118Z
SUMMARY:Patrozinium St. Antonius Hennhofen\, Heilige Messe
DESCRIPTION:https://www2.bistum-augsburg.de/gottesdienste/patrozinium-st-an
 tonius-hennhofen-heilige-messe_id1728030
DTSTART;TZID=Europe/Berlin:20260607T100000
DURATION:PT30M
LOCATION:St. Vitus
END:VEVENT
END:VCALENDAR
