BEGIN:VCALENDAR
VERSION:2.0
PRODID:-//Sabre//Sabre VObject 4.5.8//EN
CALSCALE:GREGORIAN
BEGIN:VEVENT
UID:sabre-vobject-bc6aeedd-3208-46db-8497-7072c910a1c6
DTSTAMP:20260423T155943Z
SUMMARY:Taufe von Leon Ameo Vogg
DESCRIPTION:https://www2.bistum-augsburg.de/gottesdienste/taufe-von-leon-am
 eo-vogg_id1728031
DTSTART;TZID=Europe/Berlin:20260425T103000
DURATION:PT30M
LOCATION:St. Leonhard
END:VEVENT
END:VCALENDAR
