BEGIN:VCALENDAR
VERSION:2.0
PRODID:-//Sabre//Sabre VObject 4.5.8//EN
CALSCALE:GREGORIAN
BEGIN:VEVENT
UID:sabre-vobject-6fcbb597-547b-47fd-b8bf-320c0d4610c0
DTSTAMP:20260424T114912Z
SUMMARY:Feierliche Maiandacht - Opfer für den Maialtar\n
DESCRIPTION:https://www2.bistum-augsburg.de/gottesdienste/feierliche-maiand
 acht-opfer-fuer-den-maialtar_id1728032
DTSTART;TZID=Europe/Berlin:20260517T140000
DURATION:PT30M
LOCATION:St. Michael\, Pius-Mozet-Straße 4\, 86450 Violau
END:VEVENT
END:VCALENDAR
