BEGIN:VCALENDAR
VERSION:2.0
PRODID:-//Sabre//Sabre VObject 4.5.8//EN
CALSCALE:GREGORIAN
BEGIN:VEVENT
UID:sabre-vobject-3c042775-8599-47ac-a16b-e67283c0ffe9
DTSTAMP:20260425T192241Z
SUMMARY:Maiandacht (PGR) - Opfer für den Maialtar
DESCRIPTION:https://www2.bistum-augsburg.de/gottesdienste/maiandacht-pgr-op
 fer-fuer-den-maialtar_id1728039
DTSTART;TZID=Europe/Berlin:20260531T180000
DURATION:PT30M
LOCATION:St. Nikolaus
END:VEVENT
END:VCALENDAR
