BEGIN:VCALENDAR
VERSION:2.0
PRODID:-//Sabre//Sabre VObject 4.5.8//EN
CALSCALE:GREGORIAN
BEGIN:VEVENT
UID:sabre-vobject-ccc591d8-e2c9-4cb5-b3e4-41050988e855
DTSTAMP:20260424T212508Z
SUMMARY:Heilige Messe
DESCRIPTION:https://www2.bistum-augsburg.de/gottesdienste/heilige-messe_id1
 728061
DTSTART;TZID=Europe/Berlin:20260503T084500
DURATION:PT30M
LOCATION:St. Michael\, Marxheimer Straße 2\, 86643 Rennertshofen
END:VEVENT
END:VCALENDAR
