BEGIN:VCALENDAR
VERSION:2.0
PRODID:-//Sabre//Sabre VObject 4.5.8//EN
CALSCALE:GREGORIAN
BEGIN:VEVENT
UID:sabre-vobject-2c95819e-df35-4ea6-a5e6-93be55131ae8
DTSTAMP:20260424T030038Z
SUMMARY:Feierliches Pilgeramt in der Wallfahrtsbasilika Maria Brünnlein
DESCRIPTION:https://www2.bistum-augsburg.de/gottesdienste/feierliches-pilge
 ramt-in-der-wallfahrtsbasilika-maria-bruennlein_id1728064
DTSTART;TZID=Europe/Berlin:20260510T113000
DURATION:PT30M
LOCATION:St. Johannes Baptist
END:VEVENT
END:VCALENDAR
