BEGIN:VCALENDAR
VERSION:2.0
PRODID:-//Sabre//Sabre VObject 4.5.8//EN
CALSCALE:GREGORIAN
BEGIN:VEVENT
UID:sabre-vobject-8c377a3d-9a01-4394-8df3-1ccbc6c391bc
DTSTAMP:20260424T225034Z
SUMMARY:Rosenkranz
DESCRIPTION:https://www2.bistum-augsburg.de/gottesdienste/rosenkranz_id1728
 065
DTSTART;TZID=Europe/Berlin:20260427T173000
DURATION:PT30M
LOCATION:St. Michael\, Marxheimer Straße 2\, 86643 Rennertshofen
END:VEVENT
END:VCALENDAR
