BEGIN:VCALENDAR
VERSION:2.0
PRODID:-//Sabre//Sabre VObject 4.5.8//EN
CALSCALE:GREGORIAN
BEGIN:VEVENT
UID:sabre-vobject-9198b93d-7123-4af5-9009-d9e100665839
DTSTAMP:20260424T194356Z
SUMMARY:Zeit beim Herrn
DESCRIPTION:https://www2.bistum-augsburg.de/gottesdienste/zeit-beim-herrn_i
 d1728067
DTSTART;TZID=Europe/Berlin:20260429T163000
DURATION:PT30M
LOCATION:St. Michael\, Marxheimer Straße 2\, 86643 Rennertshofen
END:VEVENT
END:VCALENDAR
