BEGIN:VCALENDAR
VERSION:2.0
PRODID:-//Sabre//Sabre VObject 4.5.8//EN
CALSCALE:GREGORIAN
BEGIN:VEVENT
UID:sabre-vobject-e8cb1cc2-1312-45f3-9831-b7ad632c2cb2
DTSTAMP:20260424T171021Z
SUMMARY:Pfarr- und Wallfahrtsgottesdienst\, Hl. Messe für die Lebenden u. 
 Verstorbenen der Pfarreiengemeinschaft
DESCRIPTION:https://www2.bistum-augsburg.de/gottesdienste/pfarr-und-wallfah
 rtsgottesdienst-hl-messe-fuer-die-lebenden-u-verstorbenen-der-pfarreiengem
 einschaft_id1728071
DTSTART;TZID=Europe/Berlin:20260510T100000
DURATION:PT30M
LOCATION:St. Michael\, Pius-Mozet-Straße 4\, 86450 Violau
END:VEVENT
END:VCALENDAR
