BEGIN:VCALENDAR
VERSION:2.0
PRODID:-//Sabre//Sabre VObject 4.5.8//EN
CALSCALE:GREGORIAN
BEGIN:VEVENT
UID:sabre-vobject-21d12120-d6c7-4e17-aaaf-8d6bc4800d72
DTSTAMP:20260424T150731Z
SUMMARY:Pilgermesse am Gnadenaltar
DESCRIPTION:https://www2.bistum-augsburg.de/gottesdienste/pilgermesse-am-gn
 adenaltar_id1728096
DTSTART;TZID=Europe/Berlin:20260520T090000
DURATION:PT30M
LOCATION:St. Michael\, Pius-Mozet-Straße 4\, 86450 Violau
END:VEVENT
END:VCALENDAR
