BEGIN:VCALENDAR
VERSION:2.0
PRODID:-//Sabre//Sabre VObject 4.5.8//EN
CALSCALE:GREGORIAN
BEGIN:VEVENT
UID:sabre-vobject-4d153833-722f-4705-9263-8d0ce6ed7041
DTSTAMP:20260422T132332Z
SUMMARY:Maiandacht an der Marienkapelle Hatzenhofen - Gestaltung: Ostturmbl
 äser (Gotteslob mitbringen)
DESCRIPTION:https://www2.bistum-augsburg.de/gottesdienste/maiandacht-an-der
 -marienkapelle-hatzenhofen-gestaltung-ostturmblaeser-gotteslob-mitbringen_
 id1728101
DTSTART;TZID=Europe/Berlin:20260503T190000
DURATION:PT30M
LOCATION:St. Michael\, Marxheimer Straße 2\, 86643 Rennertshofen
END:VEVENT
END:VCALENDAR
