BEGIN:VCALENDAR
VERSION:2.0
PRODID:-//Sabre//Sabre VObject 4.5.8//EN
CALSCALE:GREGORIAN
BEGIN:VEVENT
UID:sabre-vobject-5bb8dc0d-9739-41c3-ab1c-80adea5e4e47
DTSTAMP:20260425T125028Z
SUMMARY:Feier der Erstkommunion
DESCRIPTION:https://www2.bistum-augsburg.de/gottesdienste/feier-der-erstkom
 munion_id1728110
DTSTART;TZID=Europe/Berlin:20260426T083000
DURATION:PT30M
LOCATION:St. Michael\, Otostraße 2\, 82398 Polling Etting
END:VEVENT
END:VCALENDAR
