BEGIN:VCALENDAR
VERSION:2.0
PRODID:-//Sabre//Sabre VObject 4.5.8//EN
CALSCALE:GREGORIAN
BEGIN:VEVENT
UID:sabre-vobject-e44666ed-8cef-46a1-96e2-11b6c6f67c93
DTSTAMP:20260424T075015Z
SUMMARY:Stille Anbetung\, Euchar. Segen 17.15 Uhr
DESCRIPTION:https://www2.bistum-augsburg.de/gottesdienste/stille-anbetung-e
 uchar-segen-17-15-uhr_id1728117
DTSTART;TZID=Europe/Berlin:20260517T150000
DURATION:PT30M
LOCATION:Basilica minor St. Alexander und Theodor
END:VEVENT
END:VCALENDAR
